BEGIN:VCALENDAR
VERSION:2.0
PRODID:-//hacksw/handcal//NONSGML v1.0//EN
BEGIN:VEVENT
SUMMARY:ST RAPHAEL CAMPAGNE
UID:eac7d6fe-b83e-41c3-bacc-a010638be939
DTSTART:20260418T220000Z
DTEND:20260419T220000Z
LOCATION:Localisation   
CATEGORIES:Sportif
STATUS:
URL;VALUE=URI:https://lesarchersdumuy.sportsregions.fr/evenements/2026/04/19/st-raphael-campagne-2428603
END:VEVENT
BEGIN:VEVENT
SUMMARY:MOUANS-SARTOUX CAMPAGNE
UID:7cb4d40c-292d-43b2-b397-4c42ea50403c
DTSTART:20260515T220000Z
DTEND:20260517T220000Z
LOCATION:Localisation   
CATEGORIES:Sportif
STATUS:
URL;VALUE=URI:https://lesarchersdumuy.sportsregions.fr/evenements/2026/05/16/mouans-sartoux-campagne-2428621
END:VEVENT
BEGIN:VEVENT
SUMMARY:OLLIERES CAMPAGNE
UID:871b4af6-d110-4e16-9871-436a7b1d949d
DTSTART:20260523T220000Z
DTEND:20260524T220000Z
LOCATION:Localisation   
CATEGORIES:Sportif
STATUS:
URL;VALUE=URI:https://lesarchersdumuy.sportsregions.fr/evenements/2026/05/24/ollieres-campagne-2428622
END:VEVENT
END:VCALENDAR
