BEGIN:VCALENDAR
VERSION:2.0
PRODID:-//hacksw/handcal//NONSGML v1.0//EN
BEGIN:VEVENT
SUMMARY:TOULON LA GARDE TAE
UID:ef6c76cf-66a5-4177-b2e7-01a22680537f
DTSTART:20260612T220000Z
DTEND:20260614T220000Z
LOCATION:Localisation   
CATEGORIES:Sportif
STATUS:
URL;VALUE=URI:https://lesarchersdumuy.sportsregions.fr/evenements/2026/06/13/toulon-la-garde-tae-2428630
END:VEVENT
END:VCALENDAR
